BEGIN:VCALENDAR
VERSION:2.0
PRODID:-//Madi Kurse - ECPv6.15.20//NONSGML v1.0//EN
CALSCALE:GREGORIAN
METHOD:PUBLISH
X-WR-CALNAME:Madi Kurse
X-ORIGINAL-URL:https://madikurse.com
X-WR-CALDESC:Veranstaltungen für Madi Kurse
REFRESH-INTERVAL;VALUE=DURATION:PT1H
X-Robots-Tag:noindex
X-PUBLISHED-TTL:PT1H
BEGIN:VTIMEZONE
TZID:Europe/Berlin
BEGIN:DAYLIGHT
TZOFFSETFROM:+0100
TZOFFSETTO:+0200
TZNAME:CEST
DTSTART:20250330T010000
END:DAYLIGHT
BEGIN:STANDARD
TZOFFSETFROM:+0200
TZOFFSETTO:+0100
TZNAME:CET
DTSTART:20251026T010000
END:STANDARD
BEGIN:DAYLIGHT
TZOFFSETFROM:+0100
TZOFFSETTO:+0200
TZNAME:CEST
DTSTART:20260329T010000
END:DAYLIGHT
BEGIN:STANDARD
TZOFFSETFROM:+0200
TZOFFSETTO:+0100
TZNAME:CET
DTSTART:20261025T010000
END:STANDARD
BEGIN:DAYLIGHT
TZOFFSETFROM:+0100
TZOFFSETTO:+0200
TZNAME:CEST
DTSTART:20270328T010000
END:DAYLIGHT
BEGIN:STANDARD
TZOFFSETFROM:+0200
TZOFFSETTO:+0100
TZNAME:CET
DTSTART:20271031T010000
END:STANDARD
END:VTIMEZONE
BEGIN:VEVENT
DTSTART;VALUE=DATE:20260601
DTEND;VALUE=DATE:20260626
DTSTAMP:20260420T162340
CREATED:20260112T125553Z
LAST-MODIFIED:20260318T085815Z
UID:10634-1780272000-1782431999@madikurse.com
SUMMARY:FSP Basiskurs (monatlich)
DESCRIPTION:[vc_row][vc_column][vc_column_text css=““] \nFSP BASISKURS (monatlich)\n  \nDauer: 4 Wochen intensiv über 30 Stunden \nMon-Donn: 2 Stunden nach Vereinbarung \nPerfekt für: ApothekerInnen\, die sich gezielt auf die Fachsprachprüfung vorbereiten möchten \nDas erwartet Sie: \n\nPharmazeutische Fachsprache & Terminologie\nPatientenberatungsgespräche systematisch trainieren • Prüfungssimulationen unter realen Bedingungen\nArzneimittelkunde & Interaktionen\nLive-Online-Sessions\nUmfangreiche Lernmaterialien\nÜbungsaufgaben\nNachbetreuung auf WhatsApp-Gruppe bis zu zwei Monaten nach Kursende\n\nKurstermine: Monatlich startend \nKursformat: Online | Kleine Gruppen\nSprachen: Unterricht auf Deutsch mit Erklärungen in Arabisch/Englisch bei Bedarf[/vc_column_text][/vc_column][/vc_row][vc_row][vc_column]Jetzt anmelden[vc_column_text css=““]\n            \n            \n            [/vc_column_text][/vc_column][/vc_row]
URL:https://madikurse.com/event/fsp-basiskurs-monatlich-6/
LOCATION:Online
ATTACH;FMTTYPE=image/jpeg:https://madikurse.com/wp-content/uploads/2025/12/AdobeStock_1434158853-scaled.jpeg
END:VEVENT
END:VCALENDAR